BEGIN:VCALENDAR
CALSCALE:GREGORIAN
METHOD:PUBLISH
VERSION:2.0
PRODID:-//iCalWriter OpenSource Project//iCalWriter 0.8.1//EN
BEGIN:VEVENT
DTSTAMP:20260421T085311Z
UID:1776761591JsnD@www.lkjl.de
DTSTART:20251123T160000
DTEND;VALUE=DATE:20251123
SUMMARY:Konzert Ensemble Duscha
DESCRIPTION:
LOCATION:Lentges Saal Gerwisch 39175 Gerwisch
URL:https://www.lkjl.de/de/veranstaltung/event/89039,1239/konzert-ensemble-duscha-23-11-2025.html
ATTACH:https://www.lkjl.de/de/datei/anzeigen/id/89041,1239/konzert_©_cyano66_via_canva.png
END:VEVENT
END:VCALENDAR
